BEGIN:VCALENDAR
VERSION:2.0
PRODID:-//ChamberMaster//Event Calendar 2.0//EN
METHOD:PUBLISH
X-PUBLISHED-TTL:P3D
REFRESH-INTERVAL:P3D
CALSCALE:GREGORIAN
BEGIN:VEVENT
DTSTART:20211019T143000Z
DTEND:20211019T163000Z
X-MICROSOFT-CDO-ALLDAYEVENT:FALSE
SUMMARY:Bet On Me Podcast Launch with Annette Verchsuren
DESCRIPTION:Some of Canada's most interesting entrepreneurs and leaders\, uncovering what is takes to succeed in business and proving that global success can be from any of pocket of the world. Season one of Bet on Me: The Podcast introduces enthusiasts from Annette's community   Cape Breton Island\, showcasing the potential and magic that is Cape Breton and its people.
X-ALT-DESC;FMTTYPE=text/html:Some of Canada&rsquo\;s most interesting entrepreneurs and leaders\, uncovering what is takes to succeed in business and proving that global success can be from any of pocket of the world. Season one of Bet on Me: The Podcast introduces enthusiasts from Annette&rsquo\;s community &ndash\; Cape Breton Island\, showcasing the potential and magic that is Cape Breton and its people.
LOCATION:Joan Harriss Cruise Pavilion
UID:e.1256.1609
SEQUENCE:3
DTSTAMP:20260426T020846Z
URL:https://members.cbregionalchamber.ca/events/details/bet-on-me-podcast-launch-with-annette-verchsuren-1609
END:VEVENT

END:VCALENDAR
