BEGIN:VCALENDAR
VERSION:2.0
PRODID:-//ChamberMaster//Event Calendar 2.0//EN
METHOD:PUBLISH
X-PUBLISHED-TTL:P3D
REFRESH-INTERVAL:P3D
CALSCALE:GREGORIAN
BEGIN:VEVENT
DTSTART:20240118T123000Z
DTEND:20240118T140000Z
X-MICROSOFT-CDO-ALLDAYEVENT:FALSE
SUMMARY:Breakfast DISCussion
DESCRIPTION:Join us for an empowering morning with speaker Carol Myers from Empowering the Potential Within! Discover the keys to effective teamwork as Carol delves into the Maxwell DISC Method. Uncover how understanding personalities can revolutionize your workplace dynamics\, boost productivity\, and create harmonious collaboration among different personalities.\n\n\n\nDon't miss this chance to kick off the New Year with a powerful session on maximizing your team's potential!
X-ALT-DESC;FMTTYPE=text/html:Join us for an empowering morning with speaker Carol Myers from Empowering the Potential Within! Discover the keys to effective teamwork as Carol delves into the Maxwell DISC Method. Uncover how understanding personalities can revolutionize your workplace dynamics\, boost productivity\, and create harmonious collaboration among different personalities.<br />\n<br />\nDon&#39\;t miss this chance to kick off the New Year with a powerful session on maximizing your team&#39\;s potential!
LOCATION:The Holiday Inn - Sydney Waterfront 300 Esplanade Sydney\, NS B1P 1A7
UID:e.1256.1633
SEQUENCE:3
DTSTAMP:20260424T001924Z
URL:https://members.cbregionalchamber.ca/events/details/breakfast-discussion-1633
END:VEVENT

END:VCALENDAR
