BEGIN:VCALENDAR
VERSION:2.0
PRODID:-//ChamberMaster//Event Calendar 2.0//EN
METHOD:PUBLISH
X-PUBLISHED-TTL:P3D
REFRESH-INTERVAL:P3D
CALSCALE:GREGORIAN
BEGIN:VEVENT
DTSTART:20210922T190000Z
DTEND:20210922T210000Z
X-MICROSOFT-CDO-ALLDAYEVENT:FALSE
SUMMARY:Business After Hours - A Better Bite Cafe
DESCRIPTION:Join us on September 22 at A Better Bite Cafe for an evening of casual networking with our local business community. Everyone is welcome!
X-ALT-DESC;FMTTYPE=text/html:Join us on September 22 at A Better Bite Cafe for an evening of casual networking with our local business community. Everyone is welcome!
LOCATION:A Better Bite Cafe
UID:e.1256.1608
SEQUENCE:3
DTSTAMP:20260426T034756Z
URL:https://members.cbregionalchamber.ca/events/details/business-after-hours-a-better-bite-cafe-1608
END:VEVENT

END:VCALENDAR
