BEGIN:VCALENDAR
VERSION:2.0
PRODID:-//ChamberMaster//Event Calendar 2.0//EN
METHOD:PUBLISH
X-PUBLISHED-TTL:P3D
REFRESH-INTERVAL:P3D
CALSCALE:GREGORIAN
BEGIN:VEVENT
DTSTART:20230608T160000Z
DTEND:20230608T180000Z
X-MICROSOFT-CDO-ALLDAYEVENT:FALSE
SUMMARY:Business Analytics For Data Driven Decision Making
DESCRIPTION:The course is tailored for tech sector companies in Nova Scotia\, from small and medium businesses to big enterprises. This online program empowers teams and individuals to unlock the power of data to drive your business objectives. No matter where your data maturity lies\, the program will enhance your perspective of data by including a well-rounded\, yet detailed overview of data strategy and analytics.\n\nWhat will you learn?\n\nThrough this interactive online training\, you'll gain experience through hands-on group and individual activities. Following the group training sessions\, one-on-one coaching will be provided to all participants to target your individual needs. Once a foundational understanding of data and analytics has been established\, answering data-related questions specific to your business objectives will accelerate the benefits of the program.\n\nWho's this program for?\n\nThis program is tailored to all who want to improve their data literacy! There are no prerequisites. All those who work in the ICT sector in Nova Scotia\, from small and medium businesses to big enterprises are welcome.
X-ALT-DESC;FMTTYPE=text/html:<p><span style="font-family:var(--font)">The course is tailored for tech sector companies in Nova Scotia\, from small and medium businesses to big enterprises. This online program empowers teams and individuals to unlock the power of data to drive your business objectives. No matter where your data maturity lies\, the program will enhance your perspective of data by including a well-rounded\, yet detailed overview of data strategy and analytics.</span></p>\n\n<p><strong>What will you learn?</strong></p>\n\n<p><span style="font-family:var(--font)">Through this interactive online training\, you&rsquo\;ll gain experience through hands-on group and individual activities. Following the group training sessions\, one-on-one coaching will be provided to all participants to target your individual needs. Once a foundational understanding of data and analytics has been established\, answering data-related questions specific to your business objectives will accelerate the benefits of the program.</span></p>\n\n<p><strong>Who&rsquo\;s this program for?</strong></p>\n\n<p><span style="font-family:var(--font)">This program is tailored to all who want to improve their data literacy! There are no prerequisites. All those who work in the ICT sector in Nova Scotia\, from small and medium businesses to big enterprises are welcome.</span></p>\n\n<div>&nbsp\;</div>\n
LOCATION:Virtual Register Here!
UID:e.1256.1623
SEQUENCE:3
DTSTAMP:20260424T103548Z
URL:https://members.cbregionalchamber.ca/events/details/business-analytics-for-data-driven-decision-making-06-08-2023-1623
END:VEVENT

END:VCALENDAR
