BEGIN:VCALENDAR
VERSION:2.0
PRODID:-//ChamberMaster//Event Calendar 2.0//EN
METHOD:PUBLISH
X-PUBLISHED-TTL:P3D
REFRESH-INTERVAL:P3D
CALSCALE:GREGORIAN
BEGIN:VEVENT
DTSTART:20230614T210000Z
DTEND:20230615T000000Z
X-MICROSOFT-CDO-ALLDAYEVENT:FALSE
SUMMARY:Cape Breton Business and Philanthropy Hall of Fame
DESCRIPTION:The Cape Breton Regional Chamber of Commerce (Chamber)\, in partnership with Cape Breton University (CBU) and the Association of Fundraising Professionals\, Cape Breton Chapter (AFP-CB)\, is honoured to announce the 2023 inductees into the Cape Breton Business & Philanthropy Hall of Fame\, presented by TD Bank.\n\nWe warmly invite you to join us in celebrating the exceptional achievements and contributions of Cape Breton's finest business leaders and philanthropists at the 2023 Cape Breton Business and Philanthropy Hall of Fame Induction Ceremony on June 14.\n\nThis is an evening of recognition and appreciation\, where we acknowledge the accomplishments of those who have made significant contributions to our community. We are proud to announce that this year's laureates for the Business Hall of Fame are Dr. Eileen Pottie Forrester and Mr. Bruce Marsh. Mr. Jim Kehoe and Mrs. Roma Kehoe will be inducted into the Philanthropy Hall of Fame\, and the Cape Breton Building Trades and Unionized Contractors will receive the Philanthropy Leadership Award.
X-ALT-DESC;FMTTYPE=text/html:<p><span style="font-size:16px"><span style="font-family:roboto condensed\,sans-serif">The Cape Breton Regional Chamber of Commerce (Chamber)\, in partnership with Cape Breton University (CBU) and the Association of Fundraising Professionals\, Cape Breton Chapter (AFP-CB)\, is honoured to announce the 2023 inductees into the Cape Breton Business &amp\; Philanthropy Hall of Fame\, presented by TD Bank.</span></span></p>\n\n<p><span style="font-family:neue plak\,-apple-system\,blinkmacsystemfont\,roboto\,helvetica neue\,helvetica\,tahoma\,arial\,sans-serif\; font-size:16px">We warmly invite you to join us in celebrating the exceptional achievements and contributions of Cape Breton&#39\;s finest business leaders and philanthropists at the 2023 Cape Breton Business and Philanthropy Hall of Fame Induction Ceremony on June 14.</span></p>\n\n<p><span style="font-family:neue plak\,-apple-system\,blinkmacsystemfont\,roboto\,helvetica neue\,helvetica\,tahoma\,arial\,sans-serif\; font-size:16px">This is an evening of recognition and appreciation\, where we acknowledge the accomplishments of those who have made significant contributions to our community. We are proud to announce that this year&#39\;s laureates for the Business Hall of Fame are&nbsp\;</span><span style="font-family:neue plak\,-apple-system\,blinkmacsystemfont\,roboto\,helvetica neue\,helvetica\,tahoma\,arial\,sans-serif\; font-size:16px">Dr. Eileen Pottie Forrester and Mr. Bruce Marsh. Mr. Jim Kehoe and Mrs. Roma Kehoe will be inducted into the Philanthropy Hall of Fame\, and the Cape Breton Building Trades and Unionized Contractors will receive the Philanthropy Leadership Award.</span></p>\n
LOCATION:Membertou Trade and Convention Centre
UID:e.1256.1615
SEQUENCE:3
DTSTAMP:20260424T104137Z
URL:https://members.cbregionalchamber.ca/events/details/cape-breton-business-and-philanthropy-hall-of-fame-1615
END:VEVENT

END:VCALENDAR
