BEGIN:VCALENDAR
VERSION:2.0
PRODID:-//ChamberMaster//Event Calendar 2.0//EN
METHOD:PUBLISH
X-PUBLISHED-TTL:P3D
REFRESH-INTERVAL:P3D
CALSCALE:GREGORIAN
BEGIN:VEVENT
DTSTART:20151005T150000Z
DTEND:20151005T160000Z
X-MICROSOFT-CDO-ALLDAYEVENT:FALSE
SUMMARY:Council Meeting/ Presenter\; Alicia Lake of Pan CB Food Hub Co-op
DESCRIPTION:
X-ALT-DESC;FMTTYPE=text/html:
LOCATION:Boston Pizza (boardroom/meeting room)\, Welton Street
UID:e.1256.1090
SEQUENCE:3
DTSTAMP:20260423T103046Z
URL:https://members.cbregionalchamber.ca/events/details/council-meeting-presenter-alicia-lake-of-pan-cb-food-hub-co-op-10-05-2015-1090
END:VEVENT

END:VCALENDAR
