BEGIN:VCALENDAR
VERSION:2.0
PRODID:-//ChamberMaster//Event Calendar 2.0//EN
METHOD:PUBLISH
X-PUBLISHED-TTL:P3D
REFRESH-INTERVAL:P3D
CALSCALE:GREGORIAN
BEGIN:VEVENT
DTSTART:20230623T120000Z
DTEND:20230623T150000Z
X-MICROSOFT-CDO-ALLDAYEVENT:FALSE
SUMMARY:Investing in Business Succession
DESCRIPTION:Are you a current business owner thinking about succession options\, or a new investor interested in buying an existing successful business? Join the Island Sandbox and the Cape Breton Regional Chamber of Commerce on Friday\, June 23rd from 9:00 am - 12:00 pm in the Pit Lounge at Cape Breton University to talk about opportunities for business succession.\n\nLearn how to:\n\n\n	Make your business attractive to an investor.\n	Talk about the legal and financial issues involved in succession.\n	Examine options for finance and business investment.\n	Talk to business owners and buyers/potential buyers.
X-ALT-DESC;FMTTYPE=text/html:<p><span style="font-size:14px">Are you a current business owner thinking about succession options\, or a new investor interested in buying an existing successful business? Join the <strong>Island Sandbox</strong> and the <strong>Cape Breton Regional Chamber of Commerce</strong> on <strong>Friday\, June 23rd</strong> from <strong>9:00 am - 12:00 pm</strong> in the <strong>Pit Lounge at Cape Breton University</strong> to talk about opportunities for business succession.</span></p>\n\n<p><span style="font-size:14px">Learn how to:</span></p>\n\n<ul>\n	<li><span style="font-size:14px">Make your business attractive to an investor.</span></li>\n	<li><span style="font-size:14px">Talk about the legal and financial issues involved in succession.</span></li>\n	<li><span style="font-size:14px">Examine options for finance and business investment.</span></li>\n	<li><span style="font-size:14px">Talk to business owners and buyers/potential buyers.</span></li>\n</ul>\n
LOCATION:The Pit Lounge - Cape Breton University\, 1250 Grand Lake Road Grand Lake Road\, NS B1M 1A2
UID:e.1256.1620
SEQUENCE:3
DTSTAMP:20260424T103938Z
URL:https://members.cbregionalchamber.ca/events/details/investing-in-business-succession-1620
END:VEVENT

END:VCALENDAR
