BEGIN:VCALENDAR
VERSION:2.0
PRODID:-//ChamberMaster//Event Calendar 2.0//EN
METHOD:PUBLISH
X-PUBLISHED-TTL:P3D
REFRESH-INTERVAL:P3D
CALSCALE:GREGORIAN
BEGIN:VEVENT
DTSTART:20230607T170000Z
DTEND:20230607T183000Z
X-MICROSOFT-CDO-ALLDAYEVENT:FALSE
SUMMARY:Navigating the AI Revolution: Your SME Playbook
DESCRIPTION:Join us for an enlightening webinar featuring Erika Hild\, Channel Partner Manager at Cubeler Business Hub\, as she explores how Artificial Intelligence (AI) and data insights can revolutionize your business operations and strategies. This webinar is an essential opportunity for SME owners\, managers\, professionals\, and anyone interested in leveraging AI technology to gain a competitive edge.\n\nAI's transformation of the business landscape offers a wealth of opportunities. In this webinar\, Erika will help you unlock these opportunities\, showing you how to harness AI and data insights to better understand your customers\, streamline operations\, and make informed decisions that drive growth.
X-ALT-DESC;FMTTYPE=text/html:<p><span style="background-color:transparent\; color:rgb(0\, 0\, 0)\; font-family:arial\; font-size:12pt">Join us for an enlightening webinar featuring Erika Hild\, Channel Partner Manager at Cubeler Business Hub\, as she explores how Artificial Intelligence (AI) and data insights can revolutionize your business operations and strategies. This webinar is an essential opportunity for SME owners\, managers\, professionals\, and anyone interested in leveraging AI technology to gain a competitive edge.</span></p>\n\n<p><span style="background-color:transparent\; color:rgb(0\, 0\, 0)\; font-family:arial\; font-size:12pt">AI&#39\;s transformation of the business landscape offers a wealth of opportunities. In this webinar\, Erika will help you unlock these opportunities\, showing you how to harness AI and data insights to better understand your customers\, streamline operations\, and make informed decisions that drive growth.</span></p>\n\n<div>&nbsp\;</div>\n
LOCATION:Virtual
UID:e.1256.1617
SEQUENCE:3
DTSTAMP:20260424T103844Z
URL:https://members.cbregionalchamber.ca/events/details/navigating-the-ai-revolution-your-sme-playbook-1617
END:VEVENT

END:VCALENDAR
