BEGIN:VCALENDAR
VERSION:2.0
PRODID:-//ChamberMaster//Event Calendar 2.0//EN
METHOD:PUBLISH
X-PUBLISHED-TTL:P3D
REFRESH-INTERVAL:P3D
CALSCALE:GREGORIAN
BEGIN:VEVENT
DTSTART:20211022T123000Z
DTEND:20211023T023000Z
X-MICROSOFT-CDO-ALLDAYEVENT:FALSE
SUMMARY:Rethinking the Way We Work
DESCRIPTION:How cultivating an age-friendly workplace can ease your recruitment challenges and help to position you as an ?Employer of Choice?\n\nAsk any business in Nova Scotia and they will tell you that attracting and retaining skilled\, knowledgeable\, engaged\, and talented employees is key to their success ? and it?s never been more challenging! Creating a workplace poised for success starts with employing people of all ages\; and to peak their interest in the current marketplace you may have to rethink how you do what you do when it comes to HR. This session is an ideal opportunity to learn what it takes as an employer in 2021 to begin to devise a strategy to attract\, retain\, and draw on the skills and knowledge of workers based on six key strategies.
X-ALT-DESC;FMTTYPE=text/html:How cultivating an age-friendly workplace can ease your recruitment challenges and help to position you as an ?Employer of Choice?<br>\nAsk any business in Nova Scotia and they will tell you that attracting and retaining skilled\, knowledgeable\, engaged\, and talented employees is key to their success ? and it?s never been more challenging! Creating a workplace poised for success starts with employing people of all ages\; and to peak their interest in the current marketplace you may have to rethink how you do what you do when it comes to HR. This session is an ideal opportunity to learn what it takes as an employer in 2021 to begin to devise a strategy to attract\, retain\, and draw on the skills and knowledge of workers based on six key strategies.
LOCATION:Virtual - Remo Virtual Events Platform
UID:e.1256.1612
SEQUENCE:3
DTSTAMP:20260426T023124Z
URL:https://members.cbregionalchamber.ca/events/details/rethinking-the-way-we-work-1612
END:VEVENT

END:VCALENDAR
