BEGIN:VCALENDAR
VERSION:2.0
PRODID:-//ChamberMaster//Event Calendar 2.0//EN
METHOD:PUBLISH
X-PUBLISHED-TTL:P3D
REFRESH-INTERVAL:P3D
CALSCALE:GREGORIAN
BEGIN:VEVENT
DTSTART:20230613T160000Z
DTEND:20230613T180000Z
X-MICROSOFT-CDO-ALLDAYEVENT:FALSE
SUMMARY:Rising Costs Hurting Your Business? Strategies to Protect Your Profits
DESCRIPTION:This event is hosted by BDC\n\n\n\nThe cost of running a business has risen\, and cost pressures aren't likely to go away anytime soon.\n\nWhile raising your prices can be part of a solution\, you risk driving away your customers and harming your brand.\n\nSo how can you protect your profits in these challenging times?\n\n\n\n \n\nDiscover key strategies to protect your profits\n\nJoin BDC's Chief Economist Pierre Cl roux for an economic update and the results of our latest study on the impact of rising costs for Canadian entrepreneurs. Costs have risen more than expected for business owners. While it is clear that there are no miracle solutions to the challenge of inflation\, investing in growth while strictly managing costs has a proven effect on performance.\n\nHe will be joined by Michelle Feder\, Director\, Business Strategy\, BDC Advisory Services\, who will share strategies you can use to position your business for growth and control costs in the face of inflationary pressures.\n\nWhy you should attend\n\n\n	Discover the key trends that will put pressure on the business costs of Canadian entrepreneurs in the coming years.\n	Find out how to pivot your business quickly to get out of low-value work and protect your profit margins.\n	Ask your questions about managing rising costs and the economic situation and get answers in real time.\n\n	 \n\n\nCan't attend live? Register to receive the recording and tools following the event.
X-ALT-DESC;FMTTYPE=text/html:<p><span style="font-size:18px\;"><u><strong>This event is hosted by BDC</strong></u></span><br />\n<br />\nThe cost of running a business has risen\, and cost pressures aren&rsquo\;t likely to go away anytime soon.</p>\n\n<p>While raising your prices can be part of a solution\, you risk driving away your customers and harming your brand.</p>\n\n<p>So how can you protect your profits in these challenging times?<br />\n<br />\n&nbsp\;</p>\n\n<h2 style="margin-left:0px\; margin-right:0px">Discover key strategies to protect your profits</h2>\n\n<p>Join BDC&rsquo\;s Chief Economist&nbsp\;Pierre Cl&eacute\;roux&nbsp\;for an economic update and the results of our latest study on the impact of rising costs for Canadian entrepreneurs. Costs have risen more than expected for business owners. While it is clear that there are no miracle solutions to the challenge of inflation\, investing in growth while strictly managing costs has a proven effect on performance.</p>\n\n<p>He will be joined by&nbsp\;Michelle Feder\, Director\, Business Strategy\, BDC Advisory Services\, who will share strategies you can use to position your business for growth and control costs in the face of inflationary pressures.</p>\n\n<h2 style="margin-left:0px\; margin-right:0px">Why you should attend</h2>\n\n<ul>\n	<li>Discover the key trends that will put pressure on the business costs of Canadian entrepreneurs in the coming years.</li>\n	<li>Find out how to pivot your business quickly to get out of&nbsp\;low-value&nbsp\;work and protect your profit margins.</li>\n	<li>Ask your questions about managing rising costs and the economic situation and get answers in real time.<br />\n	&nbsp\;</li>\n</ul>\n\n<p><strong>Can&rsquo\;t attend live? Register to receive the recording and tools following the event.&nbsp\;</strong></p>\n
LOCATION:Virtual Register Here
UID:e.1256.1627
SEQUENCE:3
DTSTAMP:20260424T104208Z
URL:https://members.cbregionalchamber.ca/events/details/rising-costs-hurting-your-business-strategies-to-protect-your-profits-1627
END:VEVENT

END:VCALENDAR
