BEGIN:VCALENDAR
VERSION:2.0
PRODID:-//ChamberMaster//Event Calendar 2.0//EN
METHOD:PUBLISH
X-PUBLISHED-TTL:P3D
REFRESH-INTERVAL:P3D
CALSCALE:GREGORIAN
BEGIN:VEVENT
DTSTART:20230608T201500Z
DTEND:20230608T221500Z
X-MICROSOFT-CDO-ALLDAYEVENT:FALSE
SUMMARY:TecSocial
DESCRIPTION:TecSocial is a monthly meeting for those with an interest in technology and entrepreneurship. It is a free event and open to the public at the Holiday Inn\, Waterfront. We provide light snacks and refreshments.
X-ALT-DESC;FMTTYPE=text/html:<span style="color:rgb(88\, 89\, 91)\; font-family:oxygen\,sans-serif\; font-size:16px">TecSocial is a monthly meeting for those with an interest in technology and entrepreneurship. It is a free event and open to the public at the Holiday Inn\, Waterfront. We provide light snacks and refreshments.</span>
LOCATION:Holiday Inn Sydney - Waterfront 300 Esplanade\, Sydney\, NS B1P 1A7
UID:e.1256.1626
SEQUENCE:3
DTSTAMP:20260424T103522Z
URL:https://members.cbregionalchamber.ca/events/details/tecsocial-1626
END:VEVENT

END:VCALENDAR
