BEGIN:VCALENDAR
VERSION:2.0
PRODID:-//ChamberMaster//Event Calendar 2.0//EN
METHOD:PUBLISH
X-PUBLISHED-TTL:P3D
REFRESH-INTERVAL:P3D
CALSCALE:GREGORIAN
BEGIN:VEVENT
DTSTART:20230606T140000Z
DTEND:20230606T150000Z
X-MICROSOFT-CDO-ALLDAYEVENT:FALSE
SUMMARY:The Best Immigration Programs For Talent Acquisition\, Business Expansion And Succession Planning
DESCRIPTION:The webinar will focus on how Canadian businesses can strengthen their workforce by leveraging immigration programs. With a persistent worker shortage\, global competition for talent\, and a low birth and labour participation rates\, it has become increasingly challenging for Canadian businesses to find and retain skilled workers. This webinar will explore various immigration programs available to Canadian employers and business owners\, including the Express Entry system\, Global Talent Stream\, Provincial Nominee Programs and other federal business immigration programs.\n\n3 Key Takeaways\n\n1. Use Canada's flexible immigration programs to your advantage.\n\n2. Attract the best talent by supporting the foreign talent's immigration journey.\n\n3. Think about your succession planning now and consider foreign buyers seriously.
X-ALT-DESC;FMTTYPE=text/html:<p style="margin-left:0px\; margin-right:0px">The webinar will focus on how Canadian businesses can strengthen their workforce by leveraging immigration programs. With a persistent worker shortage\, global competition for talent\, and a low birth and labour participation rates\, it has become increasingly challenging for Canadian businesses to find and retain skilled workers. This webinar will explore various immigration programs available to Canadian employers and business owners\, including the Express Entry system\, Global Talent Stream\, Provincial Nominee Programs and other federal business immigration programs.</p>\n\n<p style="margin-left:0px\; margin-right:0px"><strong>3 Key Takeaways</strong></p>\n\n<p style="margin-left:0px\; margin-right:0px">1. Use Canada&rsquo\;s flexible immigration programs to your advantage.</p>\n\n<p style="margin-left:0px\; margin-right:0px">2. Attract the best talent by supporting the foreign talent&rsquo\;s immigration journey.</p>\n\n<p style="margin-left:0px\; margin-right:0px">3. Think about your succession planning now and consider foreign buyers seriously.</p>\n
LOCATION:Online Webinar: Zoom
UID:e.1256.1618
SEQUENCE:3
DTSTAMP:20260424T104008Z
URL:https://members.cbregionalchamber.ca/events/details/the-best-immigration-programs-for-talent-acquisition-business-expansion-and-succession-planning-1618
END:VEVENT

END:VCALENDAR
