BEGIN:VCALENDAR
VERSION:2.0
PRODID:-//ChamberMaster//Event Calendar 2.0//EN
METHOD:PUBLISH
X-PUBLISHED-TTL:P3D
REFRESH-INTERVAL:P3D
CALSCALE:GREGORIAN
BEGIN:VEVENT
DTSTART:20230614T133000Z
DTEND:20230614T191500Z
X-MICROSOFT-CDO-ALLDAYEVENT:FALSE
SUMMARY:Women in Business Summit
DESCRIPTION:Our annual Women in Business Summit brings together some of the most influential thought leaders\, business leaders and entrepreneurs from across Canada. Attendees will gain valuable insights from key presenters with a deep understanding of the challenges women in business face and learn more about how to overcome them.
X-ALT-DESC;FMTTYPE=text/html:<span style="background-color:transparent\; color:rgb(17\, 24\, 39)\; font-family:arial\; font-size:12.5pt">Our annual Women in Business Summit brings together some of the most influential thought leaders\, business leaders and entrepreneurs from across Canada. Attendees will gain valuable insights from key presenters with a deep understanding of the challenges women in business face and learn more about how to overcome them.</span>
LOCATION:Virtual
UID:e.1256.1616
SEQUENCE:3
DTSTAMP:20260424T103718Z
URL:https://members.cbregionalchamber.ca/events/details/women-in-business-summit-1616
END:VEVENT

END:VCALENDAR
